BEGIN:VCALENDAR
VERSION:2.0
PRODID:-//OneGov//onegov.event//
BEGIN:VEVENT
SUMMARY:AUSGEBUCHT - Wein- und Rebbergführung 
DTSTART:20260806T153000Z
DTEND:20260806T173000Z
DTSTAMP:20260404T181519Z
UID:wein-und-rebbergfuehrung-2-2026-08-06@onegov.event
CATEGORIES:Misc,Nature,Culture,Gastronomy
DESCRIPTION:Auf der Führung durch den Rebberg am Fusse des Schlosses erfa
 hren Sie spannende Details zu den Trauben am Schlosshang und deren Bewirts
 chaftung. Im Anschluss findet eine Degustation der besonderen Art statt: A
 uf der Schlossterrasse mit Blick über den Rebberg (bei nassem Wetter im F
 estsaal) geniessen Sie bei einem Apéro die verschiedenen Weine von Meggen
 horn.\nStart: 17.30 Uhr auf dem Schlossvorplatz \nDegustation: 18.15 Uhr\,
  Dauer: 1 Stunde\nDie Veranstaltung findet bei jedem Wetter statt und der 
 Witterung angepasste Kleidung wird vorausgesetzt. \nEintritt: CHF 15.–\n
 Tickets unter obigem Link\n
LAST-MODIFIED:20260404T181519Z
LOCATION:Schloss Meggenhorn
URL:https://www.meggenhorn.ch/event/wein-und-rebbergfuehrung-2-2026-08-06
END:VEVENT
END:VCALENDAR
