BEGIN:VCALENDAR
VERSION:2.0
PRODID:-//OneGov//onegov.event//
BEGIN:VEVENT
SUMMARY:Märchenrundgang für Erwachsene
DTSTART:20260825T130000Z
DTEND:20260825T200000Z
DTSTAMP:20260204T163149Z
UID:maerchenrundgang-fuer-erwachsene-3-2026-08-25@onegov.event
CATEGORIES:Art,Misc,Culture
DESCRIPTION:«Wenn Tiere sprechen könnten\, würden sie Märchen erzähle
 n.» Auf dem Märchenspaziergang erwarten Sie berührende\, wilde und wund
 ersame Geschichten. Die Erzählerinnen der Abendspinnereien laden Sie zu e
 inem Spaziergang im und rund ums Schloss ein. An verschiedenen Stationen k
 önnen Sie den wunderbaren\, frei erzählten Märchen lauschen.\nStart: 15
 .00 Uhr und 19.30 Uhr auf dem Schlossvorplatz\nReservation und Information
 en zum Ablauf unter www.abendspinnereien.ch \n
LAST-MODIFIED:20260204T163149Z
LOCATION:Schloss Meggenhorn
URL:https://www.meggenhorn.ch/event/maerchenrundgang-fuer-erwachsene-3-202
 6-08-25
END:VEVENT
END:VCALENDAR
